BEGIN:VCALENDAR
VERSION:2.0
PRODID:-//Tukios.com/
BEGIN:VEVENT
UID:6a6e019c-3594-46d8-b9ed-12c08253a6e0@www.snydergreenfh.com
DTSTAMP:20260421T220223Z
DTSTART:20260424T180000Z
DTEND:20260424T200000Z
SUMMARY:Visitation
DESCRIPTION:
URL:https://www.snydergreenfh.com/obituaries/robert-neiderhiser
LOCATION: 402 E Church St.  Ligonier PA 15658
GEO:40.2410338;-79.231568
END:VEVENT
END:VCALENDAR