BEGIN:VCALENDAR
VERSION:2.0
PRODID:-//Tukios.com/
BEGIN:VEVENT
UID:b14e32b7-d53b-4124-8e23-70addf07945a@www.snydergreenfh.com
DTSTAMP:20260421T220248Z
DTSTART:20260425T150000Z
DTEND:20260425T160000Z
SUMMARY:Funeral Service
DESCRIPTION:
URL:https://www.snydergreenfh.com/obituaries/robert-neiderhiser
LOCATION:Snyder-Green Funeral Home 402 E Church St.  Ligonier PA 15658
GEO:40.2410338;-79.231568
END:VEVENT
END:VCALENDAR