BEGIN:VCALENDAR
VERSION:2.0
PRODID:-//Tukios.com/
BEGIN:VEVENT
UID:1c6546a3-c4a9-4416-8d6b-603108602419@www.snydergreenfh.com
DTSTAMP:20260421T205914Z
DTSTART:20260430T143000Z
DTEND:20260430T153000Z
SUMMARY:Memorial Service
DESCRIPTION:
URL:https://www.snydergreenfh.com/obituaries/shirley-shumaker
LOCATION: 405 Route 271  Ligonier PA 15658
GEO:40.2656946;-79.1269577
END:VEVENT
END:VCALENDAR